BEGIN:VCALENDAR
VERSION:2.0
PRODID:-//Pärnu filmifestival - ECPv5.12.4//NONSGML v1.0//EN
CALSCALE:GREGORIAN
METHOD:PUBLISH
X-WR-CALNAME:Pärnu filmifestival
X-ORIGINAL-URL:https://www.chaplin.ee
X-WR-CALDESC:Events for Pärnu filmifestival
BEGIN:VTIMEZONE
TZID:UTC
BEGIN:STANDARD
TZOFFSETFROM:+0000
TZOFFSETTO:+0000
TZNAME:UTC
DTSTART:20200101T000000
END:STANDARD
END:VTIMEZONE
BEGIN:VEVENT
DTSTART;TZID=UTC:20200723T200000
DTEND;TZID=UTC:20200723T213000
DTSTAMP:20260419T120036
CREATED:20200705T054701Z
LAST-MODIFIED:20200709T101452Z
UID:16389-1595534400-1595539800@www.chaplin.ee
SUMMARY:Buddy
DESCRIPTION:by Heddy Honigmann\, 86 min\, filmed in Holland\nXXXIII PFF Estonian People´s Award 2019\nThe living classic of Dutch film art Heddy Honigmann digs into friendship between humans and dogs in situations where animal helps a blind person find her way or a puerile grownup to act smartly. Affection between human and animal may grow stronger than love between two humans. The latter might easily turn into intolerance or hatred. Which one of the geniuses has said that nature is selfish but never evil?
URL:https://www.chaplin.ee/event/buddy/
LOCATION:PÄRNU FILMIFESTIVALI SUVEKAVA VILJANDIMAAL HEIMTALI MUUSEUMIS\, Heimtali\, Viljandi\, 71102\, Estonia
CATEGORIES:PÄRNU FILMIFESTIVALI SUVEKAVA VILJANDIMAAL HEIMTALI MUUSEUMIS
ATTACH;FMTTYPE=image/jpeg:https://www.chaplin.ee/wp-content/uploads/2020/07/Sõbrake-scaled.jpg
END:VEVENT
END:VCALENDAR