BEGIN:VCALENDAR
VERSION:2.0
PRODID:-//Pärnu filmifestival - ECPv5.12.4//NONSGML v1.0//EN
CALSCALE:GREGORIAN
METHOD:PUBLISH
X-WR-CALNAME:Pärnu filmifestival
X-ORIGINAL-URL:https://www.chaplin.ee/et/
X-WR-CALDESC:Events for Pärnu filmifestival
BEGIN:VTIMEZONE
TZID:UTC
BEGIN:STANDARD
TZOFFSETFROM:+0000
TZOFFSETTO:+0000
TZNAME:UTC
DTSTART:20210101T000000
END:STANDARD
END:VTIMEZONE
BEGIN:VEVENT
DTSTART;TZID=UTC:20210716T110000
DTEND;TZID=UTC:20210716T225000
DTSTAMP:20260420T220322
CREATED:20210716T073720Z
LAST-MODIFIED:20210716T073722Z
UID:17398-1626433200-1626475800@www.chaplin.ee
SUMMARY:THE XXXV PÄRNU FILM FESTIVAL DAY 5
DESCRIPTION:Friday July 16th \n\n\n\n11.00 | Nikolai 26 | Nominated for the Grand Prize: \n\n\n\nA MAN AND A CAMERA by Guido Hendrikx\, Netherlands\, 63′ \n\n\n\nMasterclass by the director and author of the movie – Guido Hendrikx \n\n\n\nMovie trailer: https://cineuropa.org/en/video/rdid/401711/ \n\n\n\nA playful doc by an author who is hiding behind his camera\, creating a portrait of a Dutch people as curious and warm individuals. To open his protagonists\, Guido Hendrix uses a kind of key no filmmaker has ever used before. Let’s be curious as well and see where the author would reach with his camera. \n\n\n\n16.00 | Nikolai 26 | Masterclass by Andrzej Cichocki: \n\n\n\nMethods of author’s film making in Poland \n\n\n\nShort docs by Andrzej Cichocki \n\n\n\n18.00 | Nikolai 26 |Docs for Kids: \n\n\n\nSCHOOL OF HOPE by Mohamed El Aboudi\, Morocco/Finland\, 78′ \n\n\n\nThe film maker who has found his new home in Finland\, takes the viewer to Bedouins in Maroccan Sahara. The challenge of the children is to go to school and to fly away to the big world. The challenge for their parents is the opposite – the children should stay at home to work as herders and to keep alive the thousand-year-old lifestyle. \n\n\n\n\n\n\n\n\n\n19.30 | Nikolai 26 | Docs on survival of indigenous peoples: \n\n\n\nTHE ROOTS WEAVER by Fernando Saldivia\, Chile\, 10′ \n\n\n\nA poetic observation of the indigenous Yaghan art of grass­ weaving as developed in Chile. It is an intergenerational process from the extraction of raw material to the exhibition of a final piece; original tradition is attached to diverse aural and visual textures. \n\n\n\n\n\n\n\n\n\nI WON’T REMAIN ALONE by Yaser Talebi\, Iran\, 15′ \n\n\n\nIn a village of Iran\, an old couple lose their son. They decided to donate his organs. Five years later\, they hear the sound of their child’s heart. \n\n\n\n\n\n\n\n\n\nBEFORE I DIE by Iker Esteibarlanda\, Spain/Kenia\, 14′ \n\n\n\nIn a small island of Lake Victoria\, Kenya\, fishermen believe that they are entitled to everything. Meanwhile\, women and girls are forced to carry the weight of their silence. In a close journey through her childhood memories\, a young woman decides to tell her story to lighten her burden and find hope… \n\n\n\n\n\n\n\n\n\nOUR LOVE by Valeriya Golovina\, New Zeeland\, 16′ \n\n\n\nMeli and her husband Avito reflect on the pivotal decision of their lives. With much trepidation they left the tiny atoll of Tokelau for New Zealand seeking a better life for their son. 43 years on\, they find themselves pulled between family and a longing for home. \n\n\n\n\n\n\n\n\n\nA SINGLE DAY by Frédéric Furnelle\, Belgium/Ethiopia 45′ \n\n\n\nAssayuh\, living in an isolated village\, seven days’ walk from Lalibela in Ethiopia\, raises in a particularly patriarchal rural society\, her two daughters and two sons alone. The Amharic language spoken in the film\, is not subtitled. Our incompre­ hension of what is spoken gives way to the richness of the exchanges of silent glances and gestures. As the life of the village looks like a century behind us\, the author has used black and white images and ways of expression of the past cinema. \n\n\n\n\n\n\n\n\n\n21.30 | Nikolai 26 |Nominee for the Grand Prize: \n\n\n\nPIEDRA SOLA by Alejandro Telemaco Tarraf\, Argentina\, 72′ \n\n\n\nDeep inside the Argentinian highlands at an altitude of 4000 m\, a native llama herder is following the traces of an invisible puma who is killing his livestock. Through his incessant search\, a mystical encounter is revealed between him\, his ancestors and the changing form of the puma. \n\n\n\n\n \n\n\n\n\n21.30 | ETV2 | Nominated for Estonian Peoples Award: \n\n\n\nSCHOOL OF HOPE by Mohamed El Aboudi\, Morocco/Finland\, 78′|  6229955 \n\n\n\nThe film maker who has found his new home in Finland\, takes the viewer to Bedouins in Maroccan Sahara. The challenge of the children is to go to school and to fly away to the big world. The challenge for their parents is the opposite – the children should stay at home to work as herders and to keep alive the thousand-year-old lifestyle.
URL:https://www.chaplin.ee/et/event/the-xxxv-parnu-film-festival-day-5/
LOCATION:XXXV PÄRNU FILM FESTIVAL\, Nikolai 26\, Pärnu\, 80014\, Estonia
CATEGORIES:XXXV PÄRNU FILM FESTIVAL
ATTACH;FMTTYPE=image/jpeg:https://www.chaplin.ee/wp-content/uploads/2021/07/man-and-a-camera.jpg
END:VEVENT
END:VCALENDAR