BEGIN:VCALENDAR
VERSION:2.0
PRODID:-//Pärnu filmifestival - ECPv5.12.4//NONSGML v1.0//EN
CALSCALE:GREGORIAN
METHOD:PUBLISH
X-WR-CALNAME:Pärnu filmifestival
X-ORIGINAL-URL:https://www.chaplin.ee/et/
X-WR-CALDESC:Events for Pärnu filmifestival
BEGIN:VTIMEZONE
TZID:UTC
BEGIN:STANDARD
TZOFFSETFROM:+0000
TZOFFSETTO:+0000
TZNAME:UTC
DTSTART:20200101T000000
END:STANDARD
END:VTIMEZONE
BEGIN:VEVENT
DTSTART;TZID=UTC:20200719T190000
DTEND;TZID=UTC:20200719T203000
DTSTAMP:20260421T094215
CREATED:20200703T215726Z
LAST-MODIFIED:20200709T100423Z
UID:16358-1595185200-1595190600@www.chaplin.ee
SUMMARY:Steam Of Life
DESCRIPTION:by Joonas Berghäll & Mika Hotakainen\, 84 min\, filmed in Finland\nXXIV PFF The Grand Prize 2010\nNaked Finnish men in sauna tell very personal\, very touching and hard stories\, speaking straight from the heart. These are stories about love\, birth\, pleasure\, death\, friendship; about life itself. In all its simplicity the camera records the raw and rare beauty of Finnish landscapes\, saunas and men all over the country. The documentary reveals men’s naked souls in an exceptionally intimate and poetic way.
URL:https://www.chaplin.ee/et/event/steam-of-life/
LOCATION:PÄRNU FILMIFESTIVALI SUVEKAVA\, Esplanaadi 10\, Pärnu\, 80010\, Estonia
CATEGORIES:PÄRNU FILMIFESTIVALI SUVEKAVA
ATTACH;FMTTYPE=image/jpeg:https://www.chaplin.ee/wp-content/uploads/2020/07/Eluaur.jpg
END:VEVENT
END:VCALENDAR