BEGIN:VCALENDAR
VERSION:2.0
PRODID:-//Pärnu filmifestival - ECPv5.12.4//NONSGML v1.0//EN
CALSCALE:GREGORIAN
METHOD:PUBLISH
X-WR-CALNAME:Pärnu filmifestival
X-ORIGINAL-URL:https://www.chaplin.ee/et/
X-WR-CALDESC:Events for Pärnu filmifestival
BEGIN:VTIMEZONE
TZID:UTC
BEGIN:STANDARD
TZOFFSETFROM:+0000
TZOFFSETTO:+0000
TZNAME:UTC
DTSTART:20200101T000000
END:STANDARD
END:VTIMEZONE
BEGIN:VEVENT
DTSTART;TZID=UTC:20200715T190000
DTEND;TZID=UTC:20200715T193000
DTSTAMP:20260421T123805
CREATED:20200703T165828Z
LAST-MODIFIED:20200709T094241Z
UID:16329-1594839600-1594841400@www.chaplin.ee
SUMMARY:Someone Else - The Story Of Titus Gandy
DESCRIPTION:by Alexandre Degardin\, 13 min\, filmed in USA\, 2018 \n\n\n\nHave you ever wished to become someone else? When he came to New York\, Titus Gandy chose to follow Robert Burck and become the first “Naked Black Cowboy” of Times Square. Only dressed with a pair of boots\, underwear and a cowboy hat\, he walks across Broadway to amuse people. But is there a trap\, to become an everyday character? What if the iconic figure he built was only a dream that hid his own personality? More than ever\, Titus Gandy is at the crossing of the worlds.
URL:https://www.chaplin.ee/et/event/someone-else-the-story-of-titus-gandy/
LOCATION:PÄRNU FILMIFESTIVALI SUVEKAVA\, Esplanaadi 10\, Pärnu\, 80010\, Estonia
CATEGORIES:PÄRNU FILMIFESTIVALI SUVEKAVA
ATTACH;FMTTYPE=image/jpeg:https://www.chaplin.ee/wp-content/uploads/2020/07/Keegi-teine_Titus-Gandy.jpg
END:VEVENT
END:VCALENDAR