BEGIN:VCALENDAR
VERSION:2.0
PRODID:-//Pärnu filmifestival - ECPv5.12.4//NONSGML v1.0//EN
CALSCALE:GREGORIAN
METHOD:PUBLISH
X-WR-CALNAME:Pärnu filmifestival
X-ORIGINAL-URL:https://www.chaplin.ee/et/
X-WR-CALDESC:Events for Pärnu filmifestival
BEGIN:VTIMEZONE
TZID:America/El_Salvador
BEGIN:STANDARD
TZOFFSETFROM:-0600
TZOFFSETTO:-0600
TZNAME:CST
DTSTART:20200101T000000
END:STANDARD
END:VTIMEZONE
BEGIN:VEVENT
DTSTART;TZID=America/El_Salvador:20200721T160000
DTEND;TZID=America/El_Salvador:20200721T180000
DTSTAMP:20260421T185501
CREATED:20200701T212451Z
LAST-MODIFIED:20200705T042924Z
UID:16233-1595347200-1595354400@www.chaplin.ee
SUMMARY:Polyphonic Lullabies Of Kakheti
DESCRIPTION:by Hugo Zemp & Nona Lomidze\, 60 min\, filmed in Georgia\, 2019\nHugo Zemp\, the internationally recognized musicologist\, has recorded and researched yodelling\, drumming\, polyphonic\, overtone singing of indigenous peoples. Together with Nona Lomidze they have recorded a scientific documentary of polyphonic lullaby – Nana in Kakheti province\, Georgia. Can we hope that this beautiful tradition will survive?
URL:https://www.chaplin.ee/et/event/polyphonic-lullabies-of-kakheti/
LOCATION:PÄRNU FILMIFESTIVAL VILJANDIMAAL KONDASE KESKUSES\, Pikk 8\, viljandi\, 71003\, Estonia
CATEGORIES:SUVEKAVA VILJANDIMAAL
ATTACH;FMTTYPE=image/jpeg:https://www.chaplin.ee/wp-content/uploads/2020/07/polyphonic-lullabies.jpg
END:VEVENT
END:VCALENDAR