BEGIN:VCALENDAR
VERSION:2.0
PRODID:-//Pärnu filmifestival - ECPv5.12.4//NONSGML v1.0//EN
CALSCALE:GREGORIAN
METHOD:PUBLISH
X-WR-CALNAME:Pärnu filmifestival
X-ORIGINAL-URL:https://www.chaplin.ee/et/
X-WR-CALDESC:Events for Pärnu filmifestival
BEGIN:VTIMEZONE
TZID:UTC
BEGIN:STANDARD
TZOFFSETFROM:+0000
TZOFFSETTO:+0000
TZNAME:UTC
DTSTART:20200101T000000
END:STANDARD
END:VTIMEZONE
BEGIN:VEVENT
DTSTART;TZID=UTC:20200718T190000
DTEND;TZID=UTC:20200718T200000
DTSTAMP:20260423T082234
CREATED:20200703T213211Z
LAST-MODIFIED:20200709T100146Z
UID:16351-1595098800-1595102400@www.chaplin.ee
SUMMARY:Grey Matter
DESCRIPTION:by Jan Louter\, 83 min\, filmed in Netherlands\nXXXI PFF Best Medical Doc 2017\nGrey Matter follows neurosurgeons Clemens Dirven and Arnaud Vincent during the treatment period of patients with a brain tumour – a highly intense process for both physicians and patients. It takes just a single cut in the brain to completely wipe out a person’s love of poetry\, of their dog\, or of their capacity to think\, feel and love.
URL:https://www.chaplin.ee/et/event/grey-matter/
LOCATION:PÄRNU FILMIFESTIVALI SUVEKAVA\, Esplanaadi 10\, Pärnu\, 80010\, Estonia
CATEGORIES:PÄRNU FILMIFESTIVALI SUVEKAVA
ATTACH;FMTTYPE=image/png:https://www.chaplin.ee/wp-content/uploads/2020/07/Hallid-rakud.png
END:VEVENT
END:VCALENDAR